BEGIN:VCALENDAR
VERSION:2.0
PRODID:-//UnCommons - ECPv6.15.20//NONSGML v1.0//EN
CALSCALE:GREGORIAN
METHOD:PUBLISH
X-WR-CALNAME:UnCommons
X-ORIGINAL-URL:https://uncommons.com
X-WR-CALDESC:Events for UnCommons
REFRESH-INTERVAL;VALUE=DURATION:PT1H
X-Robots-Tag:noindex
X-PUBLISHED-TTL:PT1H
BEGIN:VTIMEZONE
TZID:America/Los_Angeles
BEGIN:DAYLIGHT
TZOFFSETFROM:-0800
TZOFFSETTO:-0700
TZNAME:PDT
DTSTART:20240310T100000
END:DAYLIGHT
BEGIN:STANDARD
TZOFFSETFROM:-0700
TZOFFSETTO:-0800
TZNAME:PST
DTSTART:20241103T090000
END:STANDARD
BEGIN:DAYLIGHT
TZOFFSETFROM:-0800
TZOFFSETTO:-0700
TZNAME:PDT
DTSTART:20250309T100000
END:DAYLIGHT
BEGIN:STANDARD
TZOFFSETFROM:-0700
TZOFFSETTO:-0800
TZNAME:PST
DTSTART:20251102T090000
END:STANDARD
BEGIN:DAYLIGHT
TZOFFSETFROM:-0800
TZOFFSETTO:-0700
TZNAME:PDT
DTSTART:20260308T100000
END:DAYLIGHT
BEGIN:STANDARD
TZOFFSETFROM:-0700
TZOFFSETTO:-0800
TZNAME:PST
DTSTART:20261101T090000
END:STANDARD
END:VTIMEZONE
BEGIN:VEVENT
DTSTART;TZID=America/Los_Angeles:20250508T173000
DTEND;TZID=America/Los_Angeles:20250508T193000
DTSTAMP:20260419T110138
CREATED:20250320T171407Z
LAST-MODIFIED:20260115T203844Z
UID:10004240-1746725400-1746732600@uncommons.com
SUMMARY:All'Antico Vinaio Apericena Experience
DESCRIPTION:About the event:\nApericena Experience at all’Antico Vinaio Las Vegas! Begin the evening with a refreshing Spritz on arrival\, setting the tone for a delightful journey. You’ll then roll up your sleeves and dive into a hands-on Schiacciata Dough Making Class\, where you’ll learn the secrets of preparing our famous Tuscan schiacciata. After shaping your dough\, our skilled chefs wil bake it to perfection. As you await your freshly baked schiacciata\, enjoy an authentic Apericena -choose between a glass of white or red wine\, accompanied by your schiacciata creation and a delicious tagliere (a curated board of Italian meats and cheeses) to share among friends. End the evening on a high note by taking home your freshly baked schiacciata loaf as a tasty momento of the experience. \nWhat to expect:\n– Spritz upon Arrival: Welcome drink from all’Antico Vinaio.\n– Hands-On Schiacciata Instruction: Learn dough stretching\, oven preparation\, and seasoning techniques.\n– Cooking: The chefs will bake your creation to perfection.\n– Wine & Pairings: Enjoy red or white wine\, schiacciata\, and a tagliere (meat and cheese plate).\n– Sandwich Samples: Taste select sandwich offerings.\n– Farewell Gift: Take home your freshly baked schiacciata loaf. \n💰 Reservation: 87.80 per person (including fees) 🗓️ Multiple dates\, please check our calendar⏰ Schedule:– Entry time: 5:20 PM– Event Start time: 5:30 PM– Event End time: 7:30 PM📍 all’antico Vinaio: 8533 Rozita Lee Avenue\, Suite 100 Las Vegas\, NV 89113\n👤 This is a 21+ event \nJoin us for an unforgettable evening of Italian flavors\, fun\, and flair. Buon appetito!
URL:https://uncommons.com/event/allantico-vinaio-apericena-experience/2025-05-08/
LOCATION:All’Antico Vinaio\, 8533 Rozita Lee Avenue\, Suite 100\, Las Vegas\, NV\, 89113\, United States
ATTACH;FMTTYPE=image/jpeg:https://uncommons.com/wp-content/uploads/2025/03/1731597494819-1.jpg
GEO:36.0644392;-115.2774698
X-APPLE-STRUCTURED-LOCATION;VALUE=URI;X-ADDRESS=All’Antico Vinaio 8533 Rozita Lee Avenue Suite 100 Las Vegas NV 89113 United States;X-APPLE-RADIUS=500;X-TITLE=8533 Rozita Lee Avenue\, Suite 100:geo:-115.2774698,36.0644392
END:VEVENT
BEGIN:VEVENT
DTSTART;TZID=America/Los_Angeles:20250508T180000
DTEND;TZID=America/Los_Angeles:20250508T180000
DTSTAMP:20260419T110138
CREATED:20250416T164006Z
LAST-MODIFIED:20250416T164006Z
UID:10004377-1746727200-1746727200@uncommons.com
SUMMARY:Lingua Franca Tasting @ Wineaux
DESCRIPTION:Terroir & Technique: Lingua Franca with Master Sommelier Larry Stone \nJoin us for an exclusive tasting experience led by the legendary Larry Stone\, Master Sommelier and Co-Founder of Lingua Franca as he guides you through the artistry\, precision\, and place behind Willamette Valley’s most celebrated wines. \nThis exclusive tasting will explore: \nOne stunning Chardonnay — elegant\, layered\, and expressive Three distinct Pinot Noirs — each from a different vineyard plot\, revealing the nuanced character of the Willamette Valley’s diverse terroir. \nThis is a rare opportunity to explore the artistry behind Lingua Franca wines. Gain rare insight into the techniques behind the wines and the stories of the land from one of the most influential voices in the wine world! \nBook your spot today!
URL:https://uncommons.com/event/lingua-franca-tasting-wineaux/
LOCATION:Wineaux\, 6887 HELEN TOLAND ST\, SUITE 110\, Las Vegas\, NV\, 89113\, United States
ATTACH;FMTTYPE=image/jpeg:https://uncommons.com/wp-content/uploads/2024/04/Wineaux-19.jpg
GEO:36.063228;-115.278548
X-APPLE-STRUCTURED-LOCATION;VALUE=URI;X-ADDRESS=Wineaux 6887 HELEN TOLAND ST SUITE 110 Las Vegas NV 89113 United States;X-APPLE-RADIUS=500;X-TITLE=6887 HELEN TOLAND ST\, SUITE 110:geo:-115.278548,36.063228
END:VEVENT
END:VCALENDAR