BEGIN:VCALENDAR
VERSION:2.0
PRODID:-//UnCommons - ECPv6.15.20//NONSGML v1.0//EN
CALSCALE:GREGORIAN
METHOD:PUBLISH
X-WR-CALNAME:UnCommons
X-ORIGINAL-URL:https://uncommons.com
X-WR-CALDESC:Events for UnCommons
REFRESH-INTERVAL;VALUE=DURATION:PT1H
X-Robots-Tag:noindex
X-PUBLISHED-TTL:PT1H
BEGIN:VTIMEZONE
TZID:America/Los_Angeles
BEGIN:DAYLIGHT
TZOFFSETFROM:-0800
TZOFFSETTO:-0700
TZNAME:PDT
DTSTART:20240310T100000
END:DAYLIGHT
BEGIN:STANDARD
TZOFFSETFROM:-0700
TZOFFSETTO:-0800
TZNAME:PST
DTSTART:20241103T090000
END:STANDARD
BEGIN:DAYLIGHT
TZOFFSETFROM:-0800
TZOFFSETTO:-0700
TZNAME:PDT
DTSTART:20250309T100000
END:DAYLIGHT
BEGIN:STANDARD
TZOFFSETFROM:-0700
TZOFFSETTO:-0800
TZNAME:PST
DTSTART:20251102T090000
END:STANDARD
BEGIN:DAYLIGHT
TZOFFSETFROM:-0800
TZOFFSETTO:-0700
TZNAME:PDT
DTSTART:20260308T100000
END:DAYLIGHT
BEGIN:STANDARD
TZOFFSETFROM:-0700
TZOFFSETTO:-0800
TZNAME:PST
DTSTART:20261101T090000
END:STANDARD
END:VTIMEZONE
BEGIN:VEVENT
DTSTART;TZID=America/Los_Angeles:20250723T060000
DTEND;TZID=America/Los_Angeles:20250723T070000
DTSTAMP:20260421T034723
CREATED:20250630T180620Z
LAST-MODIFIED:20250806T155443Z
UID:10004595-1753250400-1753254000@uncommons.com
SUMMARY:UnCommons Unwind
DESCRIPTION:We can all use a little “unwind” 🧘🏽‍♀️Our free mat Pilates class from @thegoodplacelv returns this July with a few modifications! We will now be on the rooftop of Parking Structure 3 from 6am-7am every Wednesday. \nMust be 18 years or older. Please bring your own mat\, towel\, and water. \nPilate Mat Class 📍6835 Ruby Duncan St\, Las Vegas\, NV 89113 (Located next to The Good Place)
URL:https://uncommons.com/event/uncommons-unwind-3/2025-07-23/
LOCATION:Parking Structure 3\, 6835 Ruby Duncan St\, Las Vegas\, NV\, 89113\, United States
ATTACH;FMTTYPE=image/png:https://uncommons.com/wp-content/uploads/2025/06/UnCommons-Unwind_IG_Aug.png
GEO:36.064209;-115.2764369
X-APPLE-STRUCTURED-LOCATION;VALUE=URI;X-ADDRESS=Parking Structure 3 6835 Ruby Duncan St Las Vegas NV 89113 United States;X-APPLE-RADIUS=500;X-TITLE=6835 Ruby Duncan St:geo:-115.2764369,36.064209
END:VEVENT
BEGIN:VEVENT
DTSTART;TZID=America/Los_Angeles:20250723T190000
DTEND;TZID=America/Los_Angeles:20250723T210000
DTSTAMP:20260421T034723
CREATED:20240625T193102Z
LAST-MODIFIED:20240625T193102Z
UID:10002627-1753297200-1753304400@uncommons.com
SUMMARY:Trivia Night at General Admission
DESCRIPTION:Come and experience the thrill of Trivia Night at General Admission Las Vegas! \nJoin us for an exciting Trivia Night\, where fun\, food\, and friendly competition come together! Whether you’re a trivia aficionado or just looking for a great night out\, our Trivia Night is the perfect event for you. Bring your friends\, family\, or coworkers\, and put your knowledge to the test across a range of topics. It’s free to play and prizes to win! \nReady to put your knowledge to the test and have a blast? Join us every Wednesday from 7pm to 9pm for Trivia Night Extravaganza!
URL:https://uncommons.com/event/trivia-night-at-general-admission/2025-07-23/
LOCATION:General Admission\, 8548 Rozita Lee Ave\, Las Vegas\, NV\, 89113\, United States
ATTACH;FMTTYPE=image/png:https://uncommons.com/wp-content/uploads/2024/06/JUN-26-2024.png
GEO:36.0644438;-115.2776233
X-APPLE-STRUCTURED-LOCATION;VALUE=URI;X-ADDRESS=General Admission 8548 Rozita Lee Ave Las Vegas NV 89113 United States;X-APPLE-RADIUS=500;X-TITLE=8548 Rozita Lee Ave:geo:-115.2776233,36.0644438
END:VEVENT
END:VCALENDAR