BEGIN:VCALENDAR
VERSION:2.0
PRODID:-//UnCommons - ECPv6.15.20//NONSGML v1.0//EN
CALSCALE:GREGORIAN
METHOD:PUBLISH
X-WR-CALNAME:UnCommons
X-ORIGINAL-URL:https://uncommons.com
X-WR-CALDESC:Events for UnCommons
REFRESH-INTERVAL;VALUE=DURATION:PT1H
X-Robots-Tag:noindex
X-PUBLISHED-TTL:PT1H
BEGIN:VTIMEZONE
TZID:America/Los_Angeles
BEGIN:DAYLIGHT
TZOFFSETFROM:-0800
TZOFFSETTO:-0700
TZNAME:PDT
DTSTART:20250309T100000
END:DAYLIGHT
BEGIN:STANDARD
TZOFFSETFROM:-0700
TZOFFSETTO:-0800
TZNAME:PST
DTSTART:20251102T090000
END:STANDARD
BEGIN:DAYLIGHT
TZOFFSETFROM:-0800
TZOFFSETTO:-0700
TZNAME:PDT
DTSTART:20260308T100000
END:DAYLIGHT
BEGIN:STANDARD
TZOFFSETFROM:-0700
TZOFFSETTO:-0800
TZNAME:PST
DTSTART:20261101T090000
END:STANDARD
BEGIN:DAYLIGHT
TZOFFSETFROM:-0800
TZOFFSETTO:-0700
TZNAME:PDT
DTSTART:20270314T100000
END:DAYLIGHT
BEGIN:STANDARD
TZOFFSETFROM:-0700
TZOFFSETTO:-0800
TZNAME:PST
DTSTART:20271107T090000
END:STANDARD
END:VTIMEZONE
BEGIN:VEVENT
DTSTART;TZID=America/Los_Angeles:20260225T180000
DTEND;TZID=America/Los_Angeles:20260225T200000
DTSTAMP:20260420T101002
CREATED:20260218T182127Z
LAST-MODIFIED:20260218T182127Z
UID:10004980-1772042400-1772049600@uncommons.com
SUMMARY:Barolo UnCorked: Cordero di Montezemolo Wine Tasting
DESCRIPTION:For nearly seven centuries\, 19 generations of the Cordero di Montezemolo family have stewarded the Monfalletto estate in La Morra\, at the heart of Barolo country. \nStill family-run today\, the estate spans 51 hectares across Barolo\, Alba\, and Roero\, including prized holdings in Villero that produce the iconic Enrico VI. Meticulously farmed by exposure\, soil\, and elevation\, these vineyards express the timeless elegance of Barolo in every glass. \nDuring this guided tasting of four wines from Cordero di Montezemolo\, we’ll explore the estate’s vineyard philosophy\, historic crus\, and winemaking approach—revealing how site\, exposure\, and vintage shape the structure\, depth\, and elegance of Barolo. \nDesigned for devoted enthusiasts and seasoned collectors alike\, this intimate\, conversational experience offers a rare opportunity to discover one of Piedmont’s most storied family estates\, glass by glass. \nSeating is limited\, get your tickets today.
URL:https://uncommons.com/event/barolo-uncorked-cordero-di-montezemolo-wine-tasting/
LOCATION:Wineaux\, 6887 HELEN TOLAND ST\, SUITE 110\, Las Vegas\, NV\, 89113\, United States
ATTACH;FMTTYPE=image/jpeg:https://uncommons.com/wp-content/uploads/2024/04/Wineaux-19.jpg
GEO:36.063228;-115.278548
X-APPLE-STRUCTURED-LOCATION;VALUE=URI;X-ADDRESS=Wineaux 6887 HELEN TOLAND ST SUITE 110 Las Vegas NV 89113 United States;X-APPLE-RADIUS=500;X-TITLE=6887 HELEN TOLAND ST\, SUITE 110:geo:-115.278548,36.063228
END:VEVENT
BEGIN:VEVENT
DTSTART;TZID=America/Los_Angeles:20260225T190000
DTEND;TZID=America/Los_Angeles:20260225T210000
DTSTAMP:20260420T101002
CREATED:20240625T193102Z
LAST-MODIFIED:20240625T193102Z
UID:10002658-1772046000-1772053200@uncommons.com
SUMMARY:Trivia Night at General Admission
DESCRIPTION:Come and experience the thrill of Trivia Night at General Admission Las Vegas! \nJoin us for an exciting Trivia Night\, where fun\, food\, and friendly competition come together! Whether you’re a trivia aficionado or just looking for a great night out\, our Trivia Night is the perfect event for you. Bring your friends\, family\, or coworkers\, and put your knowledge to the test across a range of topics. It’s free to play and prizes to win! \nReady to put your knowledge to the test and have a blast? Join us every Wednesday from 7pm to 9pm for Trivia Night Extravaganza!
URL:https://uncommons.com/event/trivia-night-at-general-admission/2026-02-25/
LOCATION:General Admission\, 8548 Rozita Lee Ave\, Las Vegas\, NV\, 89113\, United States
ATTACH;FMTTYPE=image/png:https://uncommons.com/wp-content/uploads/2024/06/JUN-26-2024.png
GEO:36.0644438;-115.2776233
X-APPLE-STRUCTURED-LOCATION;VALUE=URI;X-ADDRESS=General Admission 8548 Rozita Lee Ave Las Vegas NV 89113 United States;X-APPLE-RADIUS=500;X-TITLE=8548 Rozita Lee Ave:geo:-115.2776233,36.0644438
END:VEVENT
END:VCALENDAR