BEGIN:VCALENDAR
VERSION:2.0
PRODID:-//UnCommons - ECPv6.15.20//NONSGML v1.0//EN
CALSCALE:GREGORIAN
METHOD:PUBLISH
X-WR-CALNAME:UnCommons
X-ORIGINAL-URL:https://uncommons.com
X-WR-CALDESC:Events for UnCommons
REFRESH-INTERVAL;VALUE=DURATION:PT1H
X-Robots-Tag:noindex
X-PUBLISHED-TTL:PT1H
BEGIN:VTIMEZONE
TZID:America/Los_Angeles
BEGIN:DAYLIGHT
TZOFFSETFROM:-0800
TZOFFSETTO:-0700
TZNAME:PDT
DTSTART:20250309T100000
END:DAYLIGHT
BEGIN:STANDARD
TZOFFSETFROM:-0700
TZOFFSETTO:-0800
TZNAME:PST
DTSTART:20251102T090000
END:STANDARD
BEGIN:DAYLIGHT
TZOFFSETFROM:-0800
TZOFFSETTO:-0700
TZNAME:PDT
DTSTART:20260308T100000
END:DAYLIGHT
BEGIN:STANDARD
TZOFFSETFROM:-0700
TZOFFSETTO:-0800
TZNAME:PST
DTSTART:20261101T090000
END:STANDARD
BEGIN:DAYLIGHT
TZOFFSETFROM:-0800
TZOFFSETTO:-0700
TZNAME:PDT
DTSTART:20270314T100000
END:DAYLIGHT
BEGIN:STANDARD
TZOFFSETFROM:-0700
TZOFFSETTO:-0800
TZNAME:PST
DTSTART:20271107T090000
END:STANDARD
END:VTIMEZONE
BEGIN:VEVENT
DTSTART;TZID=America/Los_Angeles:20260417T170000
DTEND;TZID=America/Los_Angeles:20260417T200000
DTSTAMP:20260421T005926
CREATED:20260406T163615Z
LAST-MODIFIED:20260406T163615Z
UID:10005066-1776445200-1776456000@uncommons.com
SUMMARY:In Tune: Live Music
DESCRIPTION:Join us in The Quad every Friday and Saturday evening from 5-8pm for rotating local music artists. They will be showcasing their talent and style in an acoustic\, intimate setting. Whether you’re grabbing dinner at AMARI or enjoying a treat from Salt & Straw\, these spring and summer evenings are a perfect time to slow down and enjoy the moment.
URL:https://uncommons.com/event/in-tune-live-music/2026-04-17/
LOCATION:The Quad\, 6880 Helen Toland St\,\, Las Vegas\, NV\, United States
ATTACH;FMTTYPE=image/png:https://uncommons.com/wp-content/uploads/2025/11/In-tune_IG.png
GEO:36.0634639;-115.2776465
X-APPLE-STRUCTURED-LOCATION;VALUE=URI;X-ADDRESS=The Quad 6880 Helen Toland St Las Vegas NV United States;X-APPLE-RADIUS=500;X-TITLE=6880 Helen Toland St\,:geo:-115.2776465,36.0634639
END:VEVENT
END:VCALENDAR